BEGIN:VCALENDAR
VERSION:2.0
PRODID:-//Weiser Architectural Preservation Committee - ECPv6.15.20//NONSGML v1.0//EN
CALSCALE:GREGORIAN
METHOD:PUBLISH
X-WR-CALNAME:Weiser Architectural Preservation Committee
X-ORIGINAL-URL:https://weiserhistory.org
X-WR-CALDESC:Events for Weiser Architectural Preservation Committee
REFRESH-INTERVAL;VALUE=DURATION:PT1H
X-Robots-Tag:noindex
X-PUBLISHED-TTL:PT1H
BEGIN:VTIMEZONE
TZID:America/Denver
BEGIN:DAYLIGHT
TZOFFSETFROM:-0700
TZOFFSETTO:-0600
TZNAME:MDT
DTSTART:20250309T090000
END:DAYLIGHT
BEGIN:STANDARD
TZOFFSETFROM:-0600
TZOFFSETTO:-0700
TZNAME:MST
DTSTART:20251102T080000
END:STANDARD
BEGIN:DAYLIGHT
TZOFFSETFROM:-0700
TZOFFSETTO:-0600
TZNAME:MDT
DTSTART:20260308T090000
END:DAYLIGHT
BEGIN:STANDARD
TZOFFSETFROM:-0600
TZOFFSETTO:-0700
TZNAME:MST
DTSTART:20261101T080000
END:STANDARD
BEGIN:DAYLIGHT
TZOFFSETFROM:-0700
TZOFFSETTO:-0600
TZNAME:MDT
DTSTART:20270314T090000
END:DAYLIGHT
BEGIN:STANDARD
TZOFFSETFROM:-0600
TZOFFSETTO:-0700
TZNAME:MST
DTSTART:20271107T080000
END:STANDARD
END:VTIMEZONE
BEGIN:VEVENT
DTSTART;TZID=America/Denver:20260418T100000
DTEND;TZID=America/Denver:20260418T140000
DTSTAMP:20260423T105507
CREATED:20260318T201448Z
LAST-MODIFIED:20260318T201544Z
UID:2616-1776506400-1776520800@weiserhistory.org
SUMMARY:Parlor Tour
DESCRIPTION:Don’t miss your chance to view the interior of Weiser’s beautiful old homes! \nTicket price $20 \nTickets may be purchased at the Weiser Public Library now and at the Weiser Depot on the day of the tour.\nTour is open house style – view at your leisure\, in any order you choose. \nIncludes at least five home-viewings and a Victorian tea (cookies\, sandwiches\, and beverages) served at the Weiser Depot 2:00 – 3:00 pm. \nSponsored by Weiser Architectural Preservation Committee (WAPC) with gratitude to our home hosts.\nProceeds will go toward our historic site signage project.
URL:https://weiserhistory.org/event/parlor-tour/
LOCATION:Weiser Train Depot\, 1 State Street\, Weiser\, ID\, 83672\, United States
ATTACH;FMTTYPE=application/pdf:https://weiserhistory.org/wp-content/uploads/2026/03/2026-parlor-tour-flyer.pdf
END:VEVENT
END:VCALENDAR