BEGIN:VCALENDAR
VERSION:2.0
PRODID:-//Weiser Architectural Preservation Committee - ECPv6.15.20//NONSGML v1.0//EN
CALSCALE:GREGORIAN
METHOD:PUBLISH
X-WR-CALNAME:Weiser Architectural Preservation Committee
X-ORIGINAL-URL:https://weiserhistory.org
X-WR-CALDESC:Events for Weiser Architectural Preservation Committee
REFRESH-INTERVAL;VALUE=DURATION:PT1H
X-Robots-Tag:noindex
X-PUBLISHED-TTL:PT1H
BEGIN:VTIMEZONE
TZID:America/Denver
BEGIN:DAYLIGHT
TZOFFSETFROM:-0700
TZOFFSETTO:-0600
TZNAME:MDT
DTSTART:20240310T090000
END:DAYLIGHT
BEGIN:STANDARD
TZOFFSETFROM:-0600
TZOFFSETTO:-0700
TZNAME:MST
DTSTART:20241103T080000
END:STANDARD
BEGIN:DAYLIGHT
TZOFFSETFROM:-0700
TZOFFSETTO:-0600
TZNAME:MDT
DTSTART:20250309T090000
END:DAYLIGHT
BEGIN:STANDARD
TZOFFSETFROM:-0600
TZOFFSETTO:-0700
TZNAME:MST
DTSTART:20251102T080000
END:STANDARD
BEGIN:DAYLIGHT
TZOFFSETFROM:-0700
TZOFFSETTO:-0600
TZNAME:MDT
DTSTART:20260308T090000
END:DAYLIGHT
BEGIN:STANDARD
TZOFFSETFROM:-0600
TZOFFSETTO:-0700
TZNAME:MST
DTSTART:20261101T080000
END:STANDARD
END:VTIMEZONE
BEGIN:VEVENT
DTSTART;VALUE=DATE:20251205
DTEND;VALUE=DATE:20251207
DTSTAMP:20260423T165628
CREATED:20251104T222204Z
LAST-MODIFIED:20251104T222658Z
UID:2546-1764892800-1765065599@weiserhistory.org
SUMMARY:Antike Deutsche Weihnachtsornamente Raffle
DESCRIPTION:Tickets may be purchased at:\nArts & Crafts Fair at Vendome – Nov. 7-8\nWeiser Public Library – Nov. 10 – Dec. 4\nWeiser Depot – Dec. 5-6\nDrawing to be held December 6\, 2025 \nProceeds will go to the memorial bench project at Weiser Depot and to the Weiser Public Library
URL:https://weiserhistory.org/event/antike-deutsche-weihnachtsornamente-raffle-2/
LOCATION:Weiser Train Depot\, 1 State Street\, Weiser\, ID\, 83672\, United States
ATTACH;FMTTYPE=image/png:https://weiserhistory.org/wp-content/uploads/2025/11/Screenshot-2025-11-04-124715.png
END:VEVENT
BEGIN:VEVENT
DTSTART;VALUE=DATE:20251110
DTEND;VALUE=DATE:20251205
DTSTAMP:20260423T165628
CREATED:20251104T222410Z
LAST-MODIFIED:20251104T222556Z
UID:2548-1762732800-1764892799@weiserhistory.org
SUMMARY:Antike Deutsche Weihnachtsornamente Raffle
DESCRIPTION:Tickets may be purchased at:\nArts & Crafts Fair at Vendome – Nov. 7-8\nWeiser Public Library – Nov. 10 – Dec. 4\nWeiser Depot – Dec. 5-6\nDrawing to be held December 6\, 2025 \nProceeds will go to the memorial bench project at Weiser Depot and to the Weiser Public Library
URL:https://weiserhistory.org/event/antike-deutsche-weihnachtsornamente-raffle-3/
LOCATION:ID
ATTACH;FMTTYPE=image/png:https://weiserhistory.org/wp-content/uploads/2025/11/Screenshot-2025-11-04-124715.png
END:VEVENT
BEGIN:VEVENT
DTSTART;VALUE=DATE:20251107
DTEND;VALUE=DATE:20251109
DTSTAMP:20260423T165628
CREATED:20251104T195250Z
LAST-MODIFIED:20251104T222619Z
UID:2539-1762473600-1762646399@weiserhistory.org
SUMMARY:Antike Deutsche Weihnachtsornamente Raffle
DESCRIPTION:Tickets may be purchased at:\nArts & Crafts Fair at Vendome – Nov. 7-8\nWeiser Public Library – Nov. 10 – Dec. 4\nWeiser Depot – Dec. 5-6\nDrawing to be held December 6\, 2025 \nProceeds will go to the memorial bench project at Weiser Depot and to the Weiser Public Library
URL:https://weiserhistory.org/event/antike-deutsche-weihnachtsornamente-raffle/
LOCATION:Weiser Vendome\, 309 State St\, Weiser\, 83672\, United States
ATTACH;FMTTYPE=image/png:https://weiserhistory.org/wp-content/uploads/2025/11/Screenshot-2025-11-04-124715.png
END:VEVENT
BEGIN:VEVENT
DTSTART;TZID=America/Denver:20251011T100000
DTEND;TZID=America/Denver:20251011T140000
DTSTAMP:20260423T165628
CREATED:20250925T131614Z
LAST-MODIFIED:20251008T213753Z
UID:2360-1760176800-1760191200@weiserhistory.org
SUMMARY:Parlor Tour (Postponed Until Spring)
DESCRIPTION:Don’t miss your chance to view the interior of Weiser’s beautiful old homes! \nTicket price $20 \nTickets may be purchased at the Weiser Public Library and at the Weiser Depot on the day of the tour.\nTour is open house style – view at your leisure\, in any order you choose. \nIncludes at least five home-viewings and a Victorian tea (cookies\, sandwiches\, and beverages) served at the Weiser Depot. \nSponsored by Weiser Architectural Preservation Committee (WAPC) with gratitude to our home hosts.\nProceeds will go toward our historic site signage project.
URL:https://weiserhistory.org/event/parlor-tour-2025/
LOCATION:ID
ATTACH;FMTTYPE=application/pdf:https://weiserhistory.org/wp-content/uploads/2025/09/2025-parlor-tour-flier_postponed-banner_compressed.pdf
END:VEVENT
BEGIN:VEVENT
DTSTART;TZID=America/Denver:20250925T183000
DTEND;TZID=America/Denver:20250925T200000
DTSTAMP:20260423T165628
CREATED:20250830T143909Z
LAST-MODIFIED:20250830T144218Z
UID:2182-1758825000-1758830400@weiserhistory.org
SUMMARY:ArchWalks 2025 September Tour #5: Overland Road: An Architectural Smorgasbord
DESCRIPTION:Once a residential neighborhood\, Overland Road has transformed into a vibrant mix of businesses\, homes\, and office spaces. Join Barbara Perry Bauer for a walk along this historic route and discover the architectural character that emerged between the 1930s and 1970s.
URL:https://weiserhistory.org/event/archwalks-2025-september-tour-5-overland-road-an-architectural-smorgasbord-4/
LOCATION:ID
ATTACH;FMTTYPE=image/png:https://weiserhistory.org/wp-content/uploads/2025/08/Screenshot-2025-08-30-082947.png
END:VEVENT
BEGIN:VEVENT
DTSTART;TZID=America/Denver:20250925T100000
DTEND;TZID=America/Denver:20250925T113000
DTSTAMP:20260423T165628
CREATED:20250830T143806Z
LAST-MODIFIED:20250830T143806Z
UID:2180-1758794400-1758799800@weiserhistory.org
SUMMARY:ArchWalks 2025 September Tour #5: Overland Road: An Architectural Smorgasbord
DESCRIPTION:Once a residential neighborhood\, Overland Road has transformed into a vibrant mix of businesses\, homes\, and office spaces. Join Barbara Perry Bauer for a walk along this historic route and discover the architectural character that emerged between the 1930s and 1970s.
URL:https://weiserhistory.org/event/archwalks-2025-september-tour-5-overland-road-an-architectural-smorgasbord-3/
LOCATION:ID
ATTACH;FMTTYPE=image/png:https://weiserhistory.org/wp-content/uploads/2025/08/Screenshot-2025-08-30-082947.png
END:VEVENT
BEGIN:VEVENT
DTSTART;TZID=America/Denver:20250902T183000
DTEND;TZID=America/Denver:20250902T200000
DTSTAMP:20260423T165628
CREATED:20250830T143521Z
LAST-MODIFIED:20250830T144147Z
UID:2178-1756837800-1756843200@weiserhistory.org
SUMMARY:ArchWalks 2025 September Tour #5: Overland Road: An Architectural Smorgasbord
DESCRIPTION:Once a residential neighborhood\, Overland Road has transformed into a vibrant mix of businesses\, homes\, and office spaces. Join Barbara Perry Bauer for a walk along this historic route and discover the architectural character that emerged between the 1930s and 1970s.
URL:https://weiserhistory.org/event/archwalks-2025-september-tour-5-overland-road-an-architectural-smorgasbord-2/
LOCATION:ID
ATTACH;FMTTYPE=image/png:https://weiserhistory.org/wp-content/uploads/2025/08/Screenshot-2025-08-30-082947.png
END:VEVENT
BEGIN:VEVENT
DTSTART;TZID=America/Denver:20250902T100000
DTEND;TZID=America/Denver:20250902T113000
DTSTAMP:20260423T165628
CREATED:20250830T143342Z
LAST-MODIFIED:20250830T143342Z
UID:2175-1756807200-1756812600@weiserhistory.org
SUMMARY:ArchWalks 2025 September Tour #5: Overland Road: An Architectural Smorgasbord
DESCRIPTION:Once a residential neighborhood\, Overland Road has transformed into a vibrant mix of businesses\, homes\, and office spaces. Join Barbara Perry Bauer for a walk along this historic route and discover the architectural character that emerged between the 1930s and 1970s.
URL:https://weiserhistory.org/event/archwalks-2025-september-tour-5-overland-road-an-architectural-smorgasbord/
LOCATION:ID
ATTACH;FMTTYPE=image/png:https://weiserhistory.org/wp-content/uploads/2025/08/Screenshot-2025-08-30-082947.png
END:VEVENT
BEGIN:VEVENT
DTSTART;TZID=America/Denver:20250808T163000
DTEND;TZID=America/Denver:20250808T183000
DTSTAMP:20260423T165628
CREATED:20250714T151112Z
LAST-MODIFIED:20250714T152031Z
UID:2040-1754670600-1754677800@weiserhistory.org
SUMMARY:WAPC Membership Party
DESCRIPTION:More information and mailed invitation to follow. Invite a friend!
URL:https://weiserhistory.org/event/wapc-membership-party/
LOCATION:Weiser Train Depot\, 1 State Street\, Weiser\, ID\, 83672\, United States
ATTACH;FMTTYPE=image/jpeg:https://weiserhistory.org/wp-content/uploads/2025/04/book-book-pages-book-cover-font-161366-161366-scaled.jpg
END:VEVENT
BEGIN:VEVENT
DTSTART;TZID=America/Denver:20250512T190000
DTEND;TZID=America/Denver:20250512T210000
DTSTAMP:20260423T165628
CREATED:20250430T215958Z
LAST-MODIFIED:20250430T222138Z
UID:1950-1747076400-1747083600@weiserhistory.org
SUMMARY:Presentation by Jerry Eichhorst
DESCRIPTION:
URL:https://weiserhistory.org/event/presentation-by-jerry-eichhorst/
LOCATION:Weiser Train Depot\, 1 State Street\, Weiser\, ID\, 83672\, United States
ATTACH;FMTTYPE=image/jpeg:https://weiserhistory.org/wp-content/uploads/2025/04/Flyer-1.jpg
END:VEVENT
END:VCALENDAR