BEGIN:VCALENDAR
VERSION:2.0
PRODID:-//Weiser Architectural Preservation Committee - ECPv6.15.20//NONSGML v1.0//EN
CALSCALE:GREGORIAN
METHOD:PUBLISH
X-ORIGINAL-URL:https://weiserhistory.org
X-WR-CALDESC:Events for Weiser Architectural Preservation Committee
REFRESH-INTERVAL;VALUE=DURATION:PT1H
X-Robots-Tag:noindex
X-PUBLISHED-TTL:PT1H
BEGIN:VTIMEZONE
TZID:America/Denver
BEGIN:DAYLIGHT
TZOFFSETFROM:-0700
TZOFFSETTO:-0600
TZNAME:MDT
DTSTART:20250309T090000
END:DAYLIGHT
BEGIN:STANDARD
TZOFFSETFROM:-0600
TZOFFSETTO:-0700
TZNAME:MST
DTSTART:20251102T080000
END:STANDARD
BEGIN:DAYLIGHT
TZOFFSETFROM:-0700
TZOFFSETTO:-0600
TZNAME:MDT
DTSTART:20260308T090000
END:DAYLIGHT
BEGIN:STANDARD
TZOFFSETFROM:-0600
TZOFFSETTO:-0700
TZNAME:MST
DTSTART:20261101T080000
END:STANDARD
BEGIN:DAYLIGHT
TZOFFSETFROM:-0700
TZOFFSETTO:-0600
TZNAME:MDT
DTSTART:20270314T090000
END:DAYLIGHT
BEGIN:STANDARD
TZOFFSETFROM:-0600
TZOFFSETTO:-0700
TZNAME:MST
DTSTART:20271107T080000
END:STANDARD
END:VTIMEZONE
BEGIN:VEVENT
DTSTART;TZID=America/Denver:20260507T180000
DTEND;TZID=America/Denver:20260507T200000
DTSTAMP:20260423T153943
CREATED:20260413T224305Z
LAST-MODIFIED:20260413T224305Z
UID:2622-1778176800-1778184000@weiserhistory.org
SUMMARY:Declaration of Independence 101
DESCRIPTION:David Gray Adler is President of The Alturas Institute\, a non-profit educational organization created to defend American democracy by promoting the Constitution\, civic education\, equal protection and women’s rights. Adler’s scholarly writings have been quoted by the U.S. Supreme Court\, lower federal courts\, the U.S. Attorney General\, the White House Counsel\, the Legal Adviser to the State Department\, by Republicans and Democrats in both houses of congress\, as well as political scientists\, historians and legal scholars. The recipient of teaching\, writing and civic awards\, Adler has lectured nationally and internationally\, and published widely\, on the Constitution\, presidential power and the Bill of Rights. He is the author of six books including\, most recently\, The War Power in an Age of Terrorism\, as well as more than 100 scholarly articles in the leading journals in his field. He is currently writing a book on Reed v. Reed\, which had its origins in Idaho and transformed the law for American women.  Adler has taught courses on the Constitution and the Supreme Court at all three universities in Idaho. He held the James and Louise McClure Professorship at the University of Idaho\, where he was a member of the faculty of law; the Cecil Andrus Professorship at Boise State University and was Professor of Political Science and Director of the Center for Constitutional Studies at Idaho State University. He has consulted with members of Congress from both parties on a variety of constitutional issues\, including impeachment\, the war power and the termination of treaties. He has delivered more than 900 public lectures and writes a weekly column on the Constitution that runs in more than 60 newspapers across several states.  A frequent commentator on state and national events\, Adler’s lectures have aired on C-Span\, and he has done interviews with the New York Times\, Washington Post\, Wall Street Journal\, Los Angeles Times\, Newsweek\, National Review\, The Nation Magazine\, Mother Jones\, Fox News\, NPR\, NBC\, CNN and the BBC. Adler has served as member of the Board of Directors of various academic\, corporate and civic organizations\, and was a founding member of the City Club of Idaho Falls. Adler earned his BA from Michigan State University and a Ph.D. from the University of Utah. \nPresentation \nDeclaration of Independence 101 \nIn June 1776\, the Continental Congress formed a drafting committee to compose a “common sense” explanation\, in “terms so plain and firm\, as to command assent” for why the American colonies should dissolve all political connection” with Great Britain. Not all of the delegates to the Continental Congress\, like the people they represented\, wanted to become independent from Great Britain. Thomas Jefferson\, the main author\, wrote that “all men are created equal” and outlined the foundational principles of a new American nation. What are these foundational principles and what have they meant to Americans and other peoples living under the burden of oppression and ignorance? How has the Declaration of Independence inspired Americans and others to overturn the power of tyrants and to fight for equality?  In this presentation\, historical and legal scholar Dr. David Adler will discuss the Declaration of Independence and what it has meant to the United States and to the world.
URL:https://weiserhistory.org/event/declaration-of-independence-101/
LOCATION:Weiser Train Depot\, 1 State Street\, Weiser\, ID\, 83672\, United States
ATTACH;FMTTYPE=application/pdf:https://weiserhistory.org/wp-content/uploads/2026/04/250-David-Adler-Event-in-Weiser-25-Mar-26.pdf
END:VEVENT
END:VCALENDAR